

BEGIN:VCALENDAR
VERSION:2.0
PRODID:-//hacksw/handcal//NONSGML v1.0//EN
CALSCALE:GREGORIAN
BEGIN:VEVENT
DTEND:20151007T140000
UID:5e5be4587bb89
DTSTAMP:20200302T033536
LOCATION:RACV Club 501 Bourke Road Melbourne 3000 VIC
DESCRIPTION:One month after he arrived in Afghanistan as a soldier in the ADF\, an IED exploded\, tearing off his right leg. The same explosion instantly killed his mate\, Private Ben Ranaudo.
Private Paul Warren's life was saved by the quick work of his battalion\, who got him a helicopter within 16 minutes for surgery.Paul was flown to Germany and then back to Australia\, where he received treatment for his injuries in Brisbane. Although he had only known his partner\, Dearne\, for four months before his deployment\, she moved to Brisbane to assist his recovery.
There were many dark times as Paul struggled with the shattering effects of PTSD\, and guilt and grief over the death of his mate Benny. At his lowest ebb\, Paul thought about taking his own life\, as so many other soldiers in similar circumstances continue to do.Recovery was a slow and at times desperately painful process\, but the discipline and toughness he'd learned from his martial arts background and the fierce love of Dearne helped him mend.
Paul&rsquo\;s book covers his journey with PTSD and a return home to a new life\, and how he&rsquo\;s rebuilt his life\, and health &ndash\; and even got back to phenomenal fitness levels and participated in the 2014 Invictus Games in London. His story is one of courage\, determination and love that will move all who read it.
Paul now works for Mates4Mates in Townsville\, an organisation dedicated to helping injured soldiers. He&rsquo\;s a true fighter in all senses of the word\, from martial arts\, to war\, to recovery.
Venue: RACV City Club\, 501 Bourke Street Melbourne\, Level 2
Date: Wednesday 7 OctoberTime: 12 for 12.30pm start / 2pm finishCost: $54 per person includes two-course lunch. Beverages available to purchase
Payment: RACV Club members to membership account. Non members credit card payment at time of booking
Bookings: Bookings may be made by completing the booking form. Further information is available from the RACV Club on +61 3 9944 8876 or memberevents @ racv.com.au.
Download the brochure: Click here
URL;VALUE=URI:http://pipeclay.com.au/event/14422
SUMMARY:The Fighter
DTSTART:20151007T120000
END:VEVENT
END:VCALENDAR

