

BEGIN:VCALENDAR
VERSION:2.0
PRODID:-//hacksw/handcal//NONSGML v1.0//EN
CALSCALE:GREGORIAN
BEGIN:VEVENT
DTEND:20150416T140000
UID:5e5be46f8afa0
DTSTAMP:20200302T033559
LOCATION:RACV Club 501 Bourke Street Melbourne 3000 VIC
DESCRIPTION:In conjunction with the release of his new book\, Gallipoli\, award-winning Australian journalist and prolific author\, Peter FitzSimons will provide insight into the disastrous Gallipoli campaign and spell out the steps that led Australian and New Zealand soldiers to utter devastation. Following the event\, Peter will sign copies of his new book. Group bookings of 10 to 12 available\, with smaller bookings allocated to shared tables.
Venue: Level 17\, City Club
Price: $80.00 per person.
Call Member Events at the RACV Club on +61 3 9944 8876 before Friday 10th April.
URL;VALUE=URI:http://pipeclay.com.au/event/14743
SUMMARY:Gallipoli
DTSTART:20150416T120000
END:VEVENT
END:VCALENDAR

