

BEGIN:VCALENDAR
VERSION:2.0
PRODID:-//hacksw/handcal//NONSGML v1.0//EN
CALSCALE:GREGORIAN
BEGIN:VEVENT
DTEND:20160302T150000
UID:5e5be41397860
DTSTAMP:20200302T033427
LOCATION:RACV Club 501 Bourke Street Melbourne 3000 VIC
DESCRIPTION:
URL;VALUE=URI:http://pipeclay.com.au/event/14746
SUMMARY:Royal Australian Artillery Luncheon
DTSTART:20160302T120000
END:VEVENT
END:VCALENDAR

