

BEGIN:VCALENDAR
VERSION:2.0
PRODID:-//hacksw/handcal//NONSGML v1.0//EN
CALSCALE:GREGORIAN
BEGIN:VEVENT
DTEND:20160312T170000
UID:5e5be40d14297
DTSTAMP:20200302T033421
LOCATION:Victoria Racing Club Epsom Road Flemington 3031 VIC
DESCRIPTION:
URL;VALUE=URI:http://pipeclay.com.au/event/14747
SUMMARY:Blamey Stakes Day
DTSTART:20160312T103000
END:VEVENT
END:VCALENDAR

