

BEGIN:VCALENDAR
VERSION:2.0
PRODID:-//hacksw/handcal//NONSGML v1.0//EN
CALSCALE:GREGORIAN
BEGIN:VEVENT
DTEND:20160425T160000
UID:5e5be40904726
DTSTAMP:20200302T033417
LOCATION:RACV Club 501 Bourke Street Melbourne 3000 VIC
DESCRIPTION:
URL;VALUE=URI:http://pipeclay.com.au/event/14748
SUMMARY:ANZAC Day After March Luncheon
DTSTART:20160425T130000
END:VEVENT
END:VCALENDAR

