

BEGIN:VCALENDAR
VERSION:2.0
PRODID:-//hacksw/handcal//NONSGML v1.0//EN
CALSCALE:GREGORIAN
BEGIN:VEVENT
DTEND:20160516T143000
UID:5e5be40539eaf
DTSTAMP:20200302T033413
LOCATION:RACV Club 501 Bourke Street Melbourne 3000 VIC
DESCRIPTION:
URL;VALUE=URI:http://pipeclay.com.au/event/14750
SUMMARY:Pipeclay 135 Birthday Celebration
DTSTART:20160516T120000
END:VEVENT
END:VCALENDAR

