

BEGIN:VCALENDAR
VERSION:2.0
PRODID:-//hacksw/handcal//NONSGML v1.0//EN
CALSCALE:GREGORIAN
BEGIN:VEVENT
DTEND:20160601T150000
UID:5e5be401a0393
DTSTAMP:20200302T033409
LOCATION:RACV Club 501 Bourke Street Melbourne 3000 VIC
DESCRIPTION:
URL;VALUE=URI:http://pipeclay.com.au/event/14751
SUMMARY:Defence Reserves Association 2016 Luncheon
DTSTART:20160601T120000
END:VEVENT
END:VCALENDAR

