

BEGIN:VCALENDAR
VERSION:2.0
PRODID:-//hacksw/handcal//NONSGML v1.0//EN
CALSCALE:GREGORIAN
BEGIN:VEVENT
DTEND:20160728T143000
UID:5e5be3fe22b74
DTSTAMP:20200302T033406
LOCATION:RACV Club 501 Bourke Street Melbourne 3000 VIC
DESCRIPTION:
URL;VALUE=URI:http://pipeclay.com.au/event/14752
SUMMARY:Pipeclay Annual General Meeting & Luncheon
DTSTART:20160728T113000
END:VEVENT
END:VCALENDAR

