

BEGIN:VCALENDAR
VERSION:2.0
PRODID:-//hacksw/handcal//NONSGML v1.0//EN
CALSCALE:GREGORIAN
BEGIN:VEVENT
DTEND:20160805T114500
UID:5e5be3fb0a781
DTSTAMP:20200302T033403
LOCATION:Victorian Legislative Assembly  Spring Street Melbourne 3000 VIC
DESCRIPTION:
URL;VALUE=URI:http://pipeclay.com.au/event/14753
SUMMARY:Spirit of Australia - Monash Commemorative Service
DTSTART:20160805T100000
END:VEVENT
END:VCALENDAR

