

BEGIN:VCALENDAR
VERSION:2.0
PRODID:-//hacksw/handcal//NONSGML v1.0//EN
CALSCALE:GREGORIAN
BEGIN:VEVENT
DTEND:20160805T143000
UID:5e5be3f73cd86
DTSTAMP:20200302T033359
LOCATION:The Windsor Hotel 111 Spring Street Melbourne 3000 VIC
DESCRIPTION:
URL;VALUE=URI:http://pipeclay.com.au/event/14755
SUMMARY:Spirit of Australia Foundation Luncheon
DTSTART:20160805T120000
END:VEVENT
END:VCALENDAR

