

BEGIN:VCALENDAR
VERSION:2.0
PRODID:-//hacksw/handcal//NONSGML v1.0//EN
CALSCALE:GREGORIAN
BEGIN:VEVENT
DTEND:20160819T160000
UID:5e5be3ee3455d
DTSTAMP:20200302T033350
LOCATION:RACV Club 501 Bourke Street Melbourne 3000 VIC
DESCRIPTION:
URL;VALUE=URI:http://pipeclay.com.au/event/14756
SUMMARY:Vietnam Veterans Luncheon
DTSTART:20160819T120000
END:VEVENT
END:VCALENDAR

