

BEGIN:VCALENDAR
VERSION:2.0
PRODID:-//hacksw/handcal//NONSGML v1.0//EN
CALSCALE:GREGORIAN
BEGIN:VEVENT
DTEND:20160827T173000
UID:5e5be3ea27f23
DTSTAMP:20200302T033346
LOCATION:United Service Club 183 Wickham Terrace Spring Hill 4000 QLD
DESCRIPTION:
URL;VALUE=URI:http://pipeclay.com.au/event/14757
SUMMARY:Defence Reserves Australia 2016 Conference
DTSTART:20160827T080000
END:VEVENT
END:VCALENDAR

