

BEGIN:VCALENDAR
VERSION:2.0
PRODID:-//hacksw/handcal//NONSGML v1.0//EN
CALSCALE:GREGORIAN
BEGIN:VEVENT
DTEND:20161007T230000
UID:5e5be3e6e772e
DTSTAMP:20200302T033342
LOCATION:RACV Club 501 Bourke Street Melbourne 3000 VIC
DESCRIPTION:
URL;VALUE=URI:http://pipeclay.com.au/event/14758
SUMMARY:Pipeclay Dinner Dance
DTSTART:20161007T190000
END:VEVENT
END:VCALENDAR

