

BEGIN:VCALENDAR
VERSION:2.0
PRODID:-//hacksw/handcal//NONSGML v1.0//EN
CALSCALE:GREGORIAN
BEGIN:VEVENT
DTEND:20171021T230000
UID:5e5be3919ac5a
DTSTAMP:20200302T033217
LOCATION:Melbourne Club 36 Collins St Melbourne 3000 VIC
DESCRIPTION:
URL;VALUE=URI:http://pipeclay.com.au/event/14759
SUMMARY:Trafalgar Day Dinner
DTSTART:20171021T190000
END:VEVENT
END:VCALENDAR

