

BEGIN:VCALENDAR
VERSION:2.0
PRODID:-//hacksw/handcal//NONSGML v1.0//EN
CALSCALE:GREGORIAN
BEGIN:VEVENT
DTEND:20161129T150000
UID:5e5be3deb3f6a
DTSTAMP:20200302T033334
LOCATION:RACV Club 501 Bourke Street Melbourne 3000 VIC
DESCRIPTION:
URL;VALUE=URI:http://pipeclay.com.au/event/14760
SUMMARY:Pipeclay Christmas Luncheon
DTSTART:20161129T120000
END:VEVENT
END:VCALENDAR

