

BEGIN:VCALENDAR
VERSION:2.0
PRODID:-//hacksw/handcal//NONSGML v1.0//EN
CALSCALE:GREGORIAN
BEGIN:VEVENT
DTEND:20150425T160000
UID:5e5be4667a987
DTSTAMP:20200302T033550
LOCATION:RACV Club 501 Bourke Street Melbourne 3000 VIC
DESCRIPTION:Lest We Forget
Our annual Anzac Day luncheon will be held at the RACV Club\, 501 Bourke Street\, Melbourne at 1 pm for 1.30 pm on Saturday 25th April 2015.
After the march\, gather at the RACV City Club for a buffet of carved roast meats\, seasonal vegetables\, desserts and more.
Hear from our special guest speaker\, Major General Jim Barry AM MBE RFD ED (Retd). MAJGEN Barry will be speaking on the Gallipoli Campaign from the New Zealand perspective.
Bookings are essential as places are limited.
Venue: Level 2\, RACV Club\, 501 Collins Street\, Melbourne
Date: Saturday 25 April
Time: 1pm for 1:30 pm. Concludes at 3:30 pm
$39 per person\, includes buffet lunch. Drinks at bar prices.
Guests are most welcome.
URL;VALUE=URI:http://pipeclay.com.au/event/14766
SUMMARY:ANZAC Day after march Luncheon
DTSTART:20150425T130000
END:VEVENT
END:VCALENDAR

