

BEGIN:VCALENDAR
VERSION:2.0
PRODID:-//hacksw/handcal//NONSGML v1.0//EN
CALSCALE:GREGORIAN
BEGIN:VEVENT
DTEND:20150304T150000
UID:5e5be473a6695
DTSTAMP:20200302T033603
LOCATION:RACV Club 501 Bourke Street Melbourne 3000 VIC
DESCRIPTION:Brigadier D. I. Perry OAM RFD ED cordially invites both serving and retired Gunners to the Annual Royal Australian Artillery Luncheon.This is a great opportunity to catch up and renew friendships with other Gunners and especially to reunite those Gunners that we have not seen for a number of years.
The RAA Luncheon has been very successful over the past few years\, so Gunners please bring along another Gunner to the Luncheon.
WHEN: Wednesday\, 4th March 2015
TIME: 1200 for 1230 hours
WHERE: RACV Club\, 501 Bourke St.\, Melbourne
COST: $70.00 (2 Course meal which includes a complimentary drink)
DRESS: Jacket and tie
RSVP: 25th February 2015
TO: Reg W Morrell\, 6 Melissa Street\, Mt Waverley 3149. Tel. 9562 9552\, Mobile &ndash\; 0425 837 958
FLYER:&nbsp\;RAA_Luncheon_2015.pdf
URL;VALUE=URI:http://pipeclay.com.au/event/14767
SUMMARY:Royal Australian Artillery Luncheon
DTSTART:20150304T120000
END:VEVENT
END:VCALENDAR

