

BEGIN:VCALENDAR
VERSION:2.0
PRODID:-//hacksw/handcal//NONSGML v1.0//EN
CALSCALE:GREGORIAN
BEGIN:VEVENT
DTEND:20170707T230000
UID:5e5be3bf245ed
DTSTAMP:20200302T033303
LOCATION:RACV Club 501 Bourke Street Melbourne 3000 VIC
DESCRIPTION:Speaker:
Special Operations Commander Australia\,&nbsp\;Major General Jeff Sengelman&nbsp\;DSC&nbsp\;AM&nbsp\;CSC\, graduated from the Officer Cadet School Portsea in 1980.
He has seen extensive service in the Army and has undertaken a range of appointments both in Defence and on operations.
He took up his current position as Special Operations Commander Australia in December 2014.
The Chatham House rule will apply.
Entertainment:
Australian Army Band Melbourne (Reserves) jazz ensemble
Date and Time:
Friday 7 July\, 2017. The evening begins at 7 pm for 7:30 pm and concludes at 11 pm.
Dress:
Black Tie and miniatures or Mess Dress and miniatures
Menu:

Entree: Prawn cocktail\, avocado mousse\, mango jelly\, sorrel leaves
Main Course: Black Angus eye fillet\, wild mushroom\, caramelised oxtail ragout\, truffled pearl barley\, jus
Desert: Japanese citrus and strawberry tart\, crispy meringue\, ginger emulsion

Cost:
$99 per headDrinks at Club prices
Venue:&nbsp\;
RACV City Club 501 Bourke Street\, Melbourne.
Further Information:
Further information is available from the RACV Club on +61 3 9944 8876 or memberevents@racv.com.au
URL;VALUE=URI:http://pipeclay.com.au/event/26372
SUMMARY:Pipeclay Dinner and Jazz Ensemble
DTSTART:20170707T190000
END:VEVENT
END:VCALENDAR

