

BEGIN:VCALENDAR
VERSION:2.0
PRODID:-//hacksw/handcal//NONSGML v1.0//EN
CALSCALE:GREGORIAN
BEGIN:VEVENT
DTEND:20170811T144500
UID:5e5be3aad0fea
DTSTAMP:20200302T033242
LOCATION:No. 35 Restaurant Sofitel Hotel 25 Collins Street Melbourne 3000 VIC
DESCRIPTION:
URL;VALUE=URI:http://pipeclay.com.au/event/27829
SUMMARY:2017 Spirit of Australia Foundation Melbourne Luncheon
DTSTART:20170811T123000
END:VEVENT
END:VCALENDAR

