

BEGIN:VCALENDAR
VERSION:2.0
PRODID:-//hacksw/handcal//NONSGML v1.0//EN
CALSCALE:GREGORIAN
BEGIN:VEVENT
DTEND:20170811T114500
UID:5e5be3b78907e
DTSTAMP:20200302T033255
LOCATION:The Legislative Assembly Chamber\, Parliament House Spring Street Melbourne 3002 VIC
DESCRIPTION:
URL;VALUE=URI:http://pipeclay.com.au/event/27830
SUMMARY:2017 Monash Melbourne Commemorative Service
DTSTART:20170811T100000
END:VEVENT
END:VCALENDAR

