

BEGIN:VCALENDAR
VERSION:2.0
PRODID:-//hacksw/handcal//NONSGML v1.0//EN
CALSCALE:GREGORIAN
BEGIN:VEVENT
DTEND:20170819T200000
UID:5e5be39ec67dd
DTSTAMP:20200302T033230
LOCATION:Comfort Inn Airport International 57-73 Yass Road Queanbeyan 2620 NSW
DESCRIPTION:
URL;VALUE=URI:http://pipeclay.com.au/event/27832
SUMMARY:Defence Reserves Australia 2017 Conference
DTSTART:20170819T083000
END:VEVENT
END:VCALENDAR

