

BEGIN:VCALENDAR
VERSION:2.0
PRODID:-//hacksw/handcal//NONSGML v1.0//EN
CALSCALE:GREGORIAN
BEGIN:VEVENT
DTEND:20170811T160000
UID:5e5be3b49787e
DTSTAMP:20200302T033252
LOCATION:RACV Club 501 Bourke Street Melbourne 3000 VIC
DESCRIPTION:
URL;VALUE=URI:http://pipeclay.com.au/event/27833
SUMMARY:Vietnam Veterans Luncheon
DTSTART:20170811T120000
END:VEVENT
END:VCALENDAR

