

BEGIN:VCALENDAR
VERSION:2.0
PRODID:-//hacksw/handcal//NONSGML v1.0//EN
CALSCALE:GREGORIAN
BEGIN:VEVENT
DTEND:20170920T143000
UID:5e5be39577da5
DTSTAMP:20200302T033221
LOCATION:RACV Club 501 Bourke Street Melbourne 3000 VIC
DESCRIPTION:
URL;VALUE=URI:http://pipeclay.com.au/event/27834
SUMMARY:AGM & Luncheon
DTSTART:20170920T113000
END:VEVENT
END:VCALENDAR

