

BEGIN:VCALENDAR
VERSION:2.0
PRODID:-//hacksw/handcal//NONSGML v1.0//EN
CALSCALE:GREGORIAN
BEGIN:VEVENT
DTEND:20171128T150000
UID:5e5be388ccc4f
DTSTAMP:20200302T033208
LOCATION:RACV Club 501 Bourke Street Melbourne 3000 VIC
DESCRIPTION:
URL;VALUE=URI:http://pipeclay.com.au/event/27835
SUMMARY:Pipeclay Christmas Luncheon
DTSTART:20171128T120000
END:VEVENT
END:VCALENDAR

