

BEGIN:VCALENDAR
VERSION:2.0
PRODID:-//hacksw/handcal//NONSGML v1.0//EN
CALSCALE:GREGORIAN
BEGIN:VEVENT
DTEND:20170516T143000
UID:5e5be3c69a0e1
DTSTAMP:20200302T033310
LOCATION:RACV Club 501 Bourke Street Melbourne 3000 VIC
DESCRIPTION:
URL;VALUE=URI:http://pipeclay.com.au/event/27836
SUMMARY:Pipeclay 136th Birthday Celebration
DTSTART:20170516T120000
END:VEVENT
END:VCALENDAR

