

BEGIN:VCALENDAR
VERSION:2.0
PRODID:-//hacksw/handcal//NONSGML v1.0//EN
CALSCALE:GREGORIAN
BEGIN:VEVENT
DTEND:20170612T150000
UID:5e5be3c31a47c
DTSTAMP:20200302T033307
LOCATION:RACV Club 501 Bourke Street Melbourne 3000 VIC
DESCRIPTION:
URL;VALUE=URI:http://pipeclay.com.au/event/27837
SUMMARY:Defence Reserves Association 2017 Luncheon
DTSTART:20170612T120000
END:VEVENT
END:VCALENDAR

