

BEGIN:VCALENDAR
VERSION:2.0
PRODID:-//hacksw/handcal//NONSGML v1.0//EN
CALSCALE:GREGORIAN
BEGIN:VEVENT
DTEND:20170501T160000
UID:5e5be3d1c1eb9
DTSTAMP:20200302T033321
LOCATION:RACV Club 501 Bourke Street Melbourne 3000 VIC
DESCRIPTION:
URL;VALUE=URI:http://pipeclay.com.au/event/27838
SUMMARY:ANZAC Day After March Luncheon
DTSTART:20170501T130000
END:VEVENT
END:VCALENDAR

