

BEGIN:VCALENDAR
VERSION:2.0
PRODID:-//hacksw/handcal//NONSGML v1.0//EN
CALSCALE:GREGORIAN
BEGIN:VEVENT
DTEND:20170318T170000
UID:5e5be3d5b25b8
DTSTAMP:20200302T033325
LOCATION:Victoria Racing Club Epsom Road Flemington 3031 VIC
DESCRIPTION:
URL;VALUE=URI:http://pipeclay.com.au/event/27839
SUMMARY:Blamey Stakes Day
DTSTART:20170318T103000
END:VEVENT
END:VCALENDAR

