

BEGIN:VCALENDAR
VERSION:2.0
PRODID:-//hacksw/handcal//NONSGML v1.0//EN
CALSCALE:GREGORIAN
BEGIN:VEVENT
DTEND:20170815T160000
UID:5e5be3a650a29
DTSTAMP:20200302T033238
LOCATION:The Australian Club 110 William St\, Melbourne VIC 3000 Melbourne 3000 VIC
DESCRIPTION:
URL;VALUE=URI:http://pipeclay.com.au/event/27840
SUMMARY:Victory in the Pacific Day Lunch
DTSTART:20170815T120000
END:VEVENT
END:VCALENDAR

