

BEGIN:VCALENDAR
VERSION:2.0
PRODID:-//hacksw/handcal//NONSGML v1.0//EN
CALSCALE:GREGORIAN
BEGIN:VEVENT
DTEND:20180425T153000
UID:5e5be1d6d771c
DTSTAMP:20200302T032454
LOCATION:RACV City Club Conservatory Level 1 501 Bourke Street Melbourne 3000 VIC
DESCRIPTION:After the ANZAC Day March\, the Pipeclay&nbsp\;Club invite members and guests to come together to mark this solemn day of remembrance.
Guest of honour\, award-winning historian and biographer Dr Ross McMullin\, will deliver a keynote address. Dr McMullin has researched and written extensively about Australia&rsquo\;s involvement in World War I.
Cost:&nbsp\;$45 per person\, includes&nbsp\;buffet lunch. Beverages at bar prices.
Book: Call 03 9944 8876 or email memberevents@racv.com.au
URL;VALUE=URI:http://pipeclay.com.au/event/33349
SUMMARY:ANZAC Day Lunch
DTSTART:20180425T133000
END:VEVENT
END:VCALENDAR

