

BEGIN:VCALENDAR
VERSION:2.0
PRODID:-//hacksw/handcal//NONSGML v1.0//EN
CALSCALE:GREGORIAN
BEGIN:VEVENT
DTEND:20180519T220000
UID:5e5be1cb0949f
DTSTAMP:20200302T032443
LOCATION:RACV Club 17th Floor Function Room 501 Bourke Street Melbourne 3000 VIC
DESCRIPTION:We would like to extend an invitation to any member of the Pipeclay Club who would like to join with us on this very special occasion and also meet with former and current serving members of SOCOMD.
Guest Speaker &ndash\; Dr. Brendan Nelson AO former politician\, ambassador to Belgium and&nbsp\;now the Director of The Australian War Memorial who will be sharing his insights on the&nbsp\;history of Australian Special Operations and a successful Operation JAYWICK.
Dress - Mess Dress\, Dinner suit or jacket and tie with miniature medals and for ladies after&nbsp\;five wear.
Cost - $100 per person for an excellent three-course meal\, tea and coffee and wine\, beer&nbsp\;and spirits will be available on a pay-as-you-go basis. Port for toasts is included in costs.
Booking -&nbsp\;There is a limit to the number of diners in this venue and therefore book as early as&nbsp\;practicable and online at:https://www.trybooking.com/TQAB
https://www.trybooking.com/344761
Book early to ensure you get a seat or book a table (10 seats) of friends and bookings will close on 7 May 2018.
Any queries contact the ACAVIC Activities Coord. Keith Hughes on&nbsp\;0466960334.
URL;VALUE=URI:http://pipeclay.com.au/event/33355
SUMMARY:Operation JAYWICK 75th Anniversary
DTSTART:20180519T183000
END:VEVENT
END:VCALENDAR

