

BEGIN:VCALENDAR
VERSION:2.0
PRODID:-//hacksw/handcal//NONSGML v1.0//EN
CALSCALE:GREGORIAN
BEGIN:VEVENT
DTEND:20180606T150000
UID:5e5be1bdd6e84
DTSTAMP:20200302T032429
LOCATION:RACV Club Pavillion Room Level 2 501 Bourke Street Melbourne 3000 VIC
DESCRIPTION:Originally celebrating Victoria&rsquo\;s Third Division 1916 &ndash\; 1991\, this lunch continues to be a unique opportunity for past and present Reservists to keep in touch with old friends.
Pre-lunch drinks (at own cost) will be available from 12.00 noon on the second floor ante-room\, with the function commencing at 12.30 pm in the adjacent Pavilion Dining Room.
Two-course fixed menu lunch:

Entr&eacute\;e\;
alternating Mains\;
with table wines (limited)\;
and soft drink.

If more drinks are required at a table\, refer to the Lunch Administration Officer.
Guests most welcome
Dress: Jacket and tie\, medals and decorations (preferred).
Parking:&nbsp\; is available beneath the RACV building until the car park is full. Pay before exiting the car park.
RSVP: Wednesday 30th May 2018
Download:&nbsp\;
2018 DRA VIC Reservists Lunch - Invitation\, payment + RSVP details
URL;VALUE=URI:http://pipeclay.com.au/event/33372
SUMMARY:Defence Reserves Association 2018 Luncheon
DTSTART:20180606T120000
END:VEVENT
END:VCALENDAR

