

BEGIN:VCALENDAR
VERSION:2.0
PRODID:-//hacksw/handcal//NONSGML v1.0//EN
CALSCALE:GREGORIAN
BEGIN:VEVENT
DTEND:20180926T143000
UID:5e5be188e1dfa
DTSTAMP:20200302T032336
LOCATION:RACV Club 501 Bourke Street Melbourne 3000 VIC
DESCRIPTION:Members and their guests may attend either the AGM&nbsp\;Meeting\, the luncheon or both.
ANNUAL GENERAL MEETING
TAKE NOTICE that a General Meeting of the Association will be held in the RACV Club\, Level 1\, 501 Bourke Street\, Melbourne at 11.30 am on Wednesday 26th of September&nbsp\;2018.
AGENDA

Attendance
Apologies
Minutes of previous meeting
President&rsquo\;s Report &ndash\; MAJ GEN J E Barry
Secretary&rsquo\;s Report &ndash\; SBLT D S Lake
Treasurer&rsquo\;s Report &ndash\; LTCOL J E&nbsp\; Morkham
Resolutions
Elections:

President
Vice President
Secretary
Treasurer
Committee (3)


Other Appointments:

Accountant
Auditor
Honorary Solicitor
Archivist
Historian
Webmaster / Editor


Date of Next Meeting
Close of Meeting
Open Discussion

AGM Documents:

Pipeclay_Club_-_Consent_of_Nominee_Form.pdf - to be received by 5 pm Tuesday 25th September 2018
Pipeclay_Club_-_Proxy_Form.pdf&nbsp\;- to be received by 5 pm Tuesday 25th September 2018 or tabled with the Chair prior to the meeting
Pipeclay_-_20180630_-_AGM_Accounts.pdf

&nbsp\;Click here to lodge an apology

AGM&nbsp\;LUNCHEON
The luncheon follows the AGM&nbsp\;at&nbsp\;12:30 pm.
Dress:&nbsp\;Men - Lounge suit / Jacket and Tie\, and Ladies&nbsp\;-&nbsp\;Day Dress
Menu:&nbsp\;2 course meal\, coffee and tea included. Main:&nbsp\;Beef tenderloin &ndash\; gruyere and potato pave\, roasted king browns\, truss tomato\, jus (gf). Dessert:&nbsp\;Warm sticky banana pudding- caramelized macadamia\, butter scotch sauce (gf).
Cost:&nbsp\;$58.50 per person\, includes two course luncheon.
Beverages:&nbsp\;Beverages&nbsp\;are available at the cash bar.
Bookings: Bookings are necessary and guests are very welcome. Luncheon bookings close noon Friday 21st September 2018.
RSVP:&nbsp\;Call&nbsp\;the RACV&nbsp\;Member Services on 03 9944 8876 or email memberevents@racv.com.au. Please advise any dietary requirements or special needs.
URL;VALUE=URI:http://pipeclay.com.au/event/34303
SUMMARY:AGM & Luncheon
DTSTART:20180926T113000
END:VEVENT
END:VCALENDAR

