

BEGIN:VCALENDAR
VERSION:2.0
PRODID:-//hacksw/handcal//NONSGML v1.0//EN
CALSCALE:GREGORIAN
BEGIN:VEVENT
DTEND:20180817T143000
UID:5e5be18d8de35
DTSTAMP:20200302T032341
LOCATION:RACV Club 501 Bourke Street Melbourne 3000 VIC
DESCRIPTION:Speaker:&nbsp\;Terry O&rsquo\;Farrell OAM
Terry O&rsquo\;Farrell is a former deputy commander of the Australian Special Air Service Regiment where he gained invaluable experience in counter insurgency warfare through combat deployments to South Vietnam\, the Sinai\, East Timor and Afghanistan.&nbsp\;&nbsp\;On leaving the Australian Army in November 2004 he took up an advisory position with the United Arab Emirates special operations command where he was promoted to Brigadier General.&nbsp\;&nbsp\;In that role he directed operations in Afghanistan and Iraq and in-country where he realigned the national counter terrorist force\, SOP and supporting plans.
He was also a member of the Abu Dhabi Counter Terrorist committee and a trusted advisor and mentor to selected members of the royal family.&nbsp\;&nbsp\;In 2011 he resigned his commission to take up a senior training position with the UAE State Security Department (an organisation combining the functions of ASIS and ASIO) where he developed and implemented a bespoke training program designed to select Emirati men and women for advanced training as intelligence officers. In parallel he continued to advise the commander special forces on operations in Libya\, Syria and Yemen.
He is a rugby tragic and the author of Behind Enemy Lines.
Cost:&nbsp\;$82.50 per person\, includes two course luncheon and beverages.
Book:&nbsp\;Call 03 9944 8876 or email memberevents@racv.com.au
URL;VALUE=URI:http://pipeclay.com.au/event/34306
SUMMARY:Vietnam Veterans Luncheon
DTSTART:20180817T120000
END:VEVENT
END:VCALENDAR

