

BEGIN:VCALENDAR
VERSION:2.0
PRODID:-//hacksw/handcal//NONSGML v1.0//EN
CALSCALE:GREGORIAN
BEGIN:VEVENT
DTEND:20180701T130000
UID:5e5be1b93dc67
DTSTAMP:20200302T032425
LOCATION:Shrine of Remembrance St Kilda Road Melbourne 3004 VIC
DESCRIPTION:The Reserve Forces Day Parade and Commemorative Service commemorates the end of World War I and acknowledges the 70th anniversary of the raising of the Citizen Military Forces and the 20th anniversary of Reserve Forces Day.There will be a heritage military vehicle display and a fly over of vintage RAAF aircraft. Marchers will be lead onto the Shrine forecourt by the Army Band Melbourne.Seating is available for non-marchers\, family members and friends and refreshments will be available after the Commemorative Service. Spectators are most welcome.

&nbsp\;
Contact details: 0417 979 826 /&nbsp\;hfry44@bigpond.com

URL;VALUE=URI:http://pipeclay.com.au/event/34780
SUMMARY:Reserve Forces Day Parade
DTSTART:20180701T100000
END:VEVENT
END:VCALENDAR

