

BEGIN:VCALENDAR
VERSION:2.0
PRODID:-//hacksw/handcal//NONSGML v1.0//EN
CALSCALE:GREGORIAN
BEGIN:VEVENT
DTEND:20180810T230000
UID:5e5be19929d89
DTSTAMP:20200302T032353
LOCATION:Grand Ballroom The Hotel Windsor 111 Spring Street Melbourne 3000 VIC
DESCRIPTION:Organisers:

Engineers Australia
Spirit of Australia Foundation
Melbourne Rotary Inc.

Commemorating the 100th Anniversary of the Battle of Amiens.
In the final year of the Centenary of ANZAC\, we join to celebrate&nbsp\;General Sir John Monash&rsquo\;s role in World War 1.
Commemorating the decisive Battle of Amiens in which the Australians and&nbsp\;Canadians were the &lsquo\;arrowhead&rsquo\; that changed the direction of the War in the&nbsp\;Allies favour. &ldquo\;The beginning of the end!&rdquo\;
This will be a grand night to honour the 100th Anniversary of this pivotal&nbsp\;battle and the man behind it.
DATE &amp\; TIME:&nbsp\;Friday\, 10 August 2018\, 7.00pm for 7.30pm\, closing 11.00pm
LOCATION: Grand Ballroom\, The Hotel Windsor\,&nbsp\;111 Spring Street\,&nbsp\;Melbourne 3000
DRESS CODE:&nbsp\;Black Tie\, Mess Dress&nbsp\;with miniatures\;&nbsp\;female equivalent
TICKETS:&nbsp\;$125.00
Download the flyer
&nbsp\;CLICK TO REGISTER NOW&nbsp\;
Supporters:

General Sir John Monash&nbsp\;Foundation
Australian Defence Force
Returned Services League - Victorian Branch
Monash&nbsp\;University

URL;VALUE=URI:http://pipeclay.com.au/event/35186
SUMMARY:2018 Sir John Monash Commemoration Dinner
DTSTART:20180810T190000
END:VEVENT
END:VCALENDAR

