

BEGIN:VCALENDAR
VERSION:2.0
PRODID:-//hacksw/handcal//NONSGML v1.0//EN
CALSCALE:GREGORIAN
BEGIN:VEVENT
DTEND:20180803T114500
UID:5e5be1ae5563f
DTSTAMP:20200302T032414
LOCATION:The Legislative Assembly Chamber\, Parliament House Spring Street Melbourne 3002 VIC
DESCRIPTION:Mr. James Rosenberg\,&nbsp\;Chairman of The Spirit of Australia Foundation\,&nbsp\;invites you to attend the 2018 Monash Commemorative Service to be held in&nbsp\;The Legislative Assembly Chamber\, Parliament House\,&nbsp\;Spring Street\, Melbourne&nbsp\;on&nbsp\;Friday 3rd August 2018\, 10.30 am to 11.45 am.
Morning tea from 10 am
Dress: Lounge Suit or equivalent\,&nbsp\;Large Medals and Decorations
Click here to download
CLICK TO REGISTER NOW
URL;VALUE=URI:http://pipeclay.com.au/event/35187
SUMMARY:2018 Monash Melbourne Commemorative Service
DTSTART:20180803T100000
END:VEVENT
END:VCALENDAR

