

BEGIN:VCALENDAR
VERSION:2.0
PRODID:-//hacksw/handcal//NONSGML v1.0//EN
CALSCALE:GREGORIAN
BEGIN:VEVENT
DTEND:20180803T144500
UID:5e5be1a67dc0f
DTSTAMP:20200302T032406
LOCATION:No. 35 Restaurant Sofitel Hotel 25 Collins Street Melbourne 3000 VIC
DESCRIPTION:Organiser: The Spirit of Australia Foundation
Mr. James Rosenberg\,&nbsp\;Chairman of The Spirit of Australia Foundation\,&nbsp\;invites you to a&nbsp\;Luncheon\,&nbsp\;following the annual General Sir John Monash Commemorative Service\,&nbsp\;to be held in The No. 35 Restaurant\,&nbsp\;on the 35th floor of the&nbsp\;Sofitel Hotel\,&nbsp\;25 Collins Street\, Melbourne\,&nbsp\;on Friday 3rd August 2018\, at 12.30pm for 1.00pm.A two course luncheon\, main and desert\, followed by coffee and tea\, with a bottle of wine\, soft drink&nbsp\;and water provided per table and additional drinks available for purchase:&nbsp\;$75.00 per guest.
Click here to download the flyer
CLICK TO REGISTER NOW
URL;VALUE=URI:http://pipeclay.com.au/event/35188
SUMMARY:2018 Spirit of Australia Foundation Melbourne Luncheon
DTSTART:20180803T123000
END:VEVENT
END:VCALENDAR

