

BEGIN:VCALENDAR
VERSION:2.0
PRODID:-//hacksw/handcal//NONSGML v1.0//EN
CALSCALE:GREGORIAN
BEGIN:VEVENT
DTEND:20181128T150000
UID:5e5be182d0c0a
DTSTAMP:20200302T032330
LOCATION:RACV Club - President's Room 501 Bourke Street Melbourne 3000 VIC
DESCRIPTION:Traditional Christmas Luncheon
The President and Committee cordially invite you to join with friends and associates for this popular annual event.
Great company\, outstanding menu and minimum formality guaranteed.
Dress:&nbsp\;Men - Lounge suit / Jacket and Tie\, and Ladies&nbsp\;-&nbsp\;Day Dress
Fare: A two course traditional Christmas meal: main and desert including tea and coffee.
Beverages:&nbsp\;Beverages can be purchased at the table as required.
Cost: $61.00 per person
Bookings: Bookings are necessary and visitors are very welcome.&nbsp\; Bookings close Thursday 5pm 22nd November 2018
RSVP: To reserve your place\, please ring the&nbsp\;RACV&nbsp\;Member Services on (03) 9944 8876 or email: memberevents@racv.com.au.&nbsp\;&nbsp\;Please advise any dietary requirements or special needs.

URL;VALUE=URI:http://pipeclay.com.au/event/35643
SUMMARY:Christmas Luncheon
DTSTART:20181128T120000
END:VEVENT
END:VCALENDAR

