

BEGIN:VCALENDAR
VERSION:2.0
PRODID:-//hacksw/handcal//NONSGML v1.0//EN
CALSCALE:GREGORIAN
BEGIN:VEVENT
DTEND:20190302T170000
UID:5e5be17581baa
DTSTAMP:20200302T032317
LOCATION:Victoria Racing Club Epsom Road Flemington 3031 VIC
DESCRIPTION:The race is named after Sir Thomas Albert Blamey\, who was Australia's only native born Field Marshal\, and was a Victoria Racing Club Committee member from 1947 until his death in 1951.
For further details contact&nbsp\;Pipeclay&nbsp\;organiser: Stephen Lake M:048 500 825
URL;VALUE=URI:http://pipeclay.com.au/event/37399
SUMMARY:Blamey Stakes Day 2019
DTSTART:20190302T103000
END:VEVENT
END:VCALENDAR

