

BEGIN:VCALENDAR
VERSION:2.0
PRODID:-//hacksw/handcal//NONSGML v1.0//EN
CALSCALE:GREGORIAN
BEGIN:VEVENT
DTEND:20190225T143000
UID:5e5be17c77ac0
DTSTAMP:20200302T032324
LOCATION:RACV Club - President's Room 501 Bourke Street Melbourne 3000 VIC
DESCRIPTION:Members&nbsp\;Get&nbsp\;Together
Luncheon begins at&nbsp\;12:30 pm.
Dress:&nbsp\;Men - Lounge suit / Jacket and Tie\, and Ladies&nbsp\;-&nbsp\;Day Dress
Cost:&nbsp\;$58.50 per person\, includes two course luncheon.
Menu:&nbsp\;Main - Herb crumbed chicken breast\, onion and thyme tartlet\, baby gem\, jus\, olive powder.&nbsp\;Desert - Coffee tart\,&nbsp\; salted caramel\, hazelnut mousse.
Beverages:&nbsp\;Beverages&nbsp\;are available at the cash bar.
Bookings:&nbsp\;Bookings are necessary and guests are very welcome. Luncheon bookings close noon Thursday 21st February 2019.
RSVP:&nbsp\;Call&nbsp\;the RACV&nbsp\;Member Services on 03 9944 8876 or email&nbsp\;memberevents@racv.com.au. Please advise any dietary requirements or special needs.
URL;VALUE=URI:http://pipeclay.com.au/event/37400
SUMMARY:Members Get Together
DTSTART:20190225T120000
END:VEVENT
END:VCALENDAR

