

BEGIN:VCALENDAR
VERSION:2.0
PRODID:-//hacksw/handcal//NONSGML v1.0//EN
CALSCALE:GREGORIAN
BEGIN:VEVENT
DTEND:20190516T143000
UID:5e5be1451ae5c
DTSTAMP:20200302T032229
LOCATION:RACV Club - President's Room 501 Bourke Street Melbourne 3000 VIC
DESCRIPTION:138th Birthday Celebration
Luncheon begins at&nbsp\;12:30 pm.
Dress:&nbsp\;Men - Lounge suit / Jacket and Tie\, and Ladies&nbsp\;-&nbsp\;Day Dress
Cost:&nbsp\;$58.50 per person\, includes two course luncheon.
Menu:&nbsp\;Main - Beef tenderloin\,&nbsp\;gruyere and potato pave\, roasted king browns\, truss tomato\, jus (gf).&nbsp\;Desert -&nbsp\; Strawberry and pistachio shortcake\, diplomat cream\, berry shard (gf).
Beverages:&nbsp\;Beverages&nbsp\;are available at the cash bar.
Bookings:&nbsp\;Bookings are necessary and guests are very welcome. Luncheon bookings close noon Tuesday&nbsp\;14th May 2019.
RSVP:&nbsp\;Call&nbsp\;the RACV&nbsp\;Member Services on 03 9944 8876 or email&nbsp\;memberevents@racv.com.au. Please advise any dietary requirements or special needs.
&nbsp\;
URL;VALUE=URI:http://pipeclay.com.au/event/37401
SUMMARY:138th Birthday Celebration
DTSTART:20190516T120000
END:VEVENT
END:VCALENDAR

