

BEGIN:VCALENDAR
VERSION:2.0
PRODID:-//hacksw/handcal//NONSGML v1.0//EN
CALSCALE:GREGORIAN
BEGIN:VEVENT
DTEND:20190425T153000
UID:5e5be14da3cf9
DTSTAMP:20200302T032237
LOCATION:RACV City Club - Pavilion Room 501 Bourke Street Melbourne 3000 VIC
DESCRIPTION:After the ANZAC Day March\, the Pipeclay&nbsp\;Club invite members and guests to come together to mark this solemn day of remembrance.
Guest Speaker: Michael Bennett\, the great grandson&nbsp\;of GEN&nbsp\;Sir John Monash.&nbsp\; Michael is&nbsp\;a member of the General Sir John Monash Foundation\, and Chairman of their Victorian Selection Panel.
Dress: Uniform or&nbsp\;Men - Lounge suit / Jacket and Tie\, and Ladies&nbsp\;-&nbsp\;Day Dress and medals.
Cost:&nbsp\;$50.00 per person\, includes 3 course buffet luncheon.
Beverages: Beverages&nbsp\;are available at&nbsp\;the cash bar.
Bookings:&nbsp\;Bookings are necessary and guests are very welcome. Luncheon bookings close noon Tuesday 23rd&nbsp\;April&nbsp\;2019
RSVP: Call&nbsp\;the RACV&nbsp\;Member Services on 03 9944 8876 or email&nbsp\;memberevents@racv.com.au. Please advise any dietary requirements or special needs.
URL;VALUE=URI:http://pipeclay.com.au/event/37402
SUMMARY:ANZAC Day Lunch 2019
DTSTART:20190425T133000
END:VEVENT
END:VCALENDAR

