

BEGIN:VCALENDAR
VERSION:2.0
PRODID:-//hacksw/handcal//NONSGML v1.0//EN
CALSCALE:GREGORIAN
BEGIN:VEVENT
DTEND:20190816T143000
UID:5e5be101b0fd4
DTSTAMP:20200302T032121
LOCATION:RACV Club - Pavilion Room 501 Bourke Street Melbourne 3000 VIC
DESCRIPTION:On the 53rd anniversary of the Battle of Long Tan\, this very special lunch honours those who served in Vietnam\, the longest wartime conflict in Australia's history.
Speaker:&nbsp\;Ross Smith was a lieutenant colonel in the&nbsp\;war and a former member of parliament in Victoria.
Cost:&nbsp\;$84.50 per person\, includes two course luncheon and beverages.
Book:&nbsp\;Call 03 9944 8876 or email memberevents@racv.com.au.
Always a great day of camaraderie&nbsp\;and friendship\, members and guests are welcome to honour our veterans.
URL;VALUE=URI:http://pipeclay.com.au/event/37404
SUMMARY:Vietnam Veterans 2019 Luncheon
DTSTART:20190816T120000
END:VEVENT
END:VCALENDAR

