

BEGIN:VCALENDAR
VERSION:2.0
PRODID:-//hacksw/handcal//NONSGML v1.0//EN
CALSCALE:GREGORIAN
BEGIN:VEVENT
DTEND:20190306T143000
UID:5e5be167b5087
DTSTAMP:20200302T032303
LOCATION:RACV Club - Pavilion Room 501 Bourke Street Melbourne 3000 VIC
DESCRIPTION:FULL DETAILS TO FOLLOW EARLY 2019 WITH RSVP FORMS:http://artilleryvic.org.au/index.php/event/raa-luncheon-2/
URL;VALUE=URI:http://pipeclay.com.au/event/37405
SUMMARY:RAA 2019 Luncheon
DTSTART:20190306T120000
END:VEVENT
END:VCALENDAR

