

BEGIN:VCALENDAR
VERSION:2.0
PRODID:-//hacksw/handcal//NONSGML v1.0//EN
CALSCALE:GREGORIAN
BEGIN:VEVENT
DTEND:20190831T230000
UID:5e5be0f83916c
DTSTAMP:20200302T032112
LOCATION:RACV Club - Members Dining Room 501 Bourke Street Melbourne 3000 VIC
DESCRIPTION:SOLD OUT
Date and Time:
Saturday 31 August\, 2019.&nbsp\; The evening begins at 7 pm for 7:30 pm and concludes at 11 pm
Dress:
Lounge suit no medals
Entertainment:
Dance Band in Members Dining Room
Menu:
3 courses &ndash\; Entr&eacute\;e\, Main Course\, and Desert. Limited choices with each course. Three glasses of wine included\, matched by the RACV Club&rsquo\;s Sommelier Christian Maier to each dish.
Cost:
$96 per person
Venue:&nbsp\;
Private Dining Room\, RACV City Club\, Level 1\, 501 Bourke Street\, Melbourne. Parking available underneath the Club (at a cost)\, enter from Chancery Lane.
Bookings &amp\; Information:
Contact Member Events by Monday&nbsp\;26 August 2019 at the RACV Club on +61 3 9944 8888 or memberevents@racv.com.au. Specify you will be attending the Pipeclay&nbsp\;Table on 31 August and any dietary requirements. RACV Club members can charge their booking to the Club account\, non-members can charge the booking to their Mastercard or Visa. Limited places\, avoid disappointment\, book early.
URL;VALUE=URI:http://pipeclay.com.au/event/37406
SUMMARY:2019 Dinner and Dance
DTSTART:20190831T190000
END:VEVENT
END:VCALENDAR

