

BEGIN:VCALENDAR
VERSION:2.0
PRODID:-//hacksw/handcal//NONSGML v1.0//EN
CALSCALE:GREGORIAN
BEGIN:VEVENT
DTEND:20191127T150000
UID:5e5be0cdf0052
DTSTAMP:20200302T032029
LOCATION:RACV Club - President's Room 501 Bourke Street Melbourne 3000 VIC
DESCRIPTION:Traditional Christmas Luncheon
The President and Committee cordially invite you to join with friends and associates for this popular annual event.
Great company\, outstanding menu and minimum formality guaranteed.
Dress:&nbsp\;Men - Lounge suit / Jacket and Tie\, and Ladies&nbsp\;-&nbsp\;Day Dress
Fare:&nbsp\;Main - Oven roasted turkey breast\, Kassler ham\, herb stuffing\, potato gratin\, asparagus\, cranberry (p) / Dessert&nbsp\;- Traditional Christmas pudding\, brandy custard\, berry compote / Coffee\, tea\, herbal infusions and mini mince pie.
Beverages:&nbsp\;Beverages can be purchased at the table as required.
Cost:&nbsp\;$65.00 pp
Bookings: Bookings are necessary and visitors are very welcome.&nbsp\; Bookings close Thursday 5pm 21st November 2019
RSVP: To reserve your place\, please ring the&nbsp\;RACV&nbsp\;Member Services on (03) 9944 8888 (option 7) or email: clubevents@racv.com.au.&nbsp\;&nbsp\;Please advise any dietary requirements or special needs.

URL;VALUE=URI:http://pipeclay.com.au/event/37407
SUMMARY:Christmas 2019 Luncheon
DTSTART:20191127T120000
END:VEVENT
END:VCALENDAR

