

BEGIN:VCALENDAR
VERSION:2.0
PRODID:-//hacksw/handcal//NONSGML v1.0//EN
CALSCALE:GREGORIAN
BEGIN:VEVENT
DTEND:20190925T143000
UID:5e5be0ebd46e7
DTSTAMP:20200302T032059
LOCATION:RACV Club - Level 2 501 Bourke Street Melbourne 3000 VIC
DESCRIPTION:Members and their guests may attend either the AGM&nbsp\;Meeting\, the luncheon or both.
ANNUAL GENERAL MEETING
TAKE NOTICE that a General Meeting of the Association will be held in the RACV Club\, Level 2\, 501 Bourke Street\, Melbourne at 11.30 am on Wednesday 25th of September&nbsp\;2019.
AGENDA

Attendance
Apologies
Minutes of previous meeting
President&rsquo\;s Report &ndash\; COL M Buckridge
Secretary&rsquo\;s Report &ndash\; SBLT D S Lake
Treasurer&rsquo\;s Report &ndash\; LTCOL J E&nbsp\; Morkham
Resolutions
Elections:

President
Vice President
Secretary
Treasurer
Committee (3)


Other Appointments:

Accountant
Auditor
Honorary Solicitor
Archivist
Historian
Webmaster / Editor


Date of Next Meeting
Close of Meeting
Open Discussion

AGM Documents:

Pipeclay_Club_-_Consent_of_Nominee_Form.pdf - to be received by 5 pm Tuesday 24th September 2019
Pipeclay_Club_-_Proxy_Form.pdf&nbsp\;- to be received by 5 pm Tuesday 24th September 2019 or tabled with the Chair prior to the meeting
Pipeclay Club - Presidents Report 2019 AGM.pdf
Pipeclay Club 2018-9 Accounts.pdf.

&nbsp\;Click here to lodge an apology

AGM&nbsp\;LUNCHEON
The luncheon follows the AGM&nbsp\;at&nbsp\;12:30 pm.
Venue:&nbsp\;RACV&nbsp\;City Club - Level 2\, 501 Bourke Street
Dress:&nbsp\;Men - Lounge suit / Jacket and Tie\, and Ladies&nbsp\;-&nbsp\;Day Dress
Menu:&nbsp\;2 course meal\, coffee and tea included.
Cost:&nbsp\;$60.00 pp\, includes two course luncheon.
Beverages:&nbsp\;Beverages&nbsp\;are available at the cash bar.
Bookings: Bookings are necessary and guests are very welcome. Luncheon bookings close noon Friday 20th September 2019.
RSVP:&nbsp\;Call&nbsp\;the RACV&nbsp\;Club Events Team on 03 9944 8888 and select option 7 or email events@club.racv.com.au. Please advise any dietary requirements or special needs.
URL;VALUE=URI:http://pipeclay.com.au/event/37408
SUMMARY:2019 AGM & Luncheon
DTSTART:20190925T113000
END:VEVENT
END:VCALENDAR

