

BEGIN:VCALENDAR
VERSION:2.0
PRODID:-//hacksw/handcal//NONSGML v1.0//EN
CALSCALE:GREGORIAN
BEGIN:VEVENT
DTEND:20190406T163000
UID:5e5be15707425
DTSTAMP:20200302T032247
LOCATION:Pompey Elliott Memorial Hall 403 Camberwell Road Camberwell 3124 VIC
DESCRIPTION:
URL;VALUE=URI:http://pipeclay.com.au/event/38236
SUMMARY:Aftermath: Australia after the Great War
DTSTART:20190406T090000
END:VEVENT
END:VCALENDAR

