

BEGIN:VCALENDAR
VERSION:2.0
PRODID:-//hacksw/handcal//NONSGML v1.0//EN
CALSCALE:GREGORIAN
BEGIN:VEVENT
DTEND:20190809T114500
UID:5e5be12105eba
DTSTAMP:20200302T032153
LOCATION:The Legislative Assembly Chamber\, Parliament House Spring Street Melbourne 3002 VIC
DESCRIPTION:Mr. James Rosenberg\,&nbsp\;Chairman of The Spirit of Australia Foundation\,&nbsp\;invites you to attend the 2019&nbsp\;Monash Commemorative Service to be held in&nbsp\;The Legislative Assembly Chamber\, Parliament House\,&nbsp\;Spring Street\, Melbourne&nbsp\;on&nbsp\;Friday 9th August 2019\, 10.30 am to 11.45 am.
Morning tea from 10 am
Dress: Lounge Suit or equivalent\,&nbsp\;Large Medals and Decorations
Click here to download invitation
CLICK TO REGISTER NOW
URL;VALUE=URI:http://pipeclay.com.au/event/39830
SUMMARY:2019 Monash Melbourne Commemorative Service
DTSTART:20190809T100000
END:VEVENT
END:VCALENDAR

